BEGIN:VCALENDAR
VERSION:2.0
PRODID:-//Momentum - ECPv6.15.16//NONSGML v1.0//EN
CALSCALE:GREGORIAN
METHOD:PUBLISH
X-WR-CALNAME:Momentum
X-ORIGINAL-URL:https://momentum4all.org
X-WR-CALDESC:Events for Momentum
REFRESH-INTERVAL;VALUE=DURATION:PT1H
X-Robots-Tag:noindex
X-PUBLISHED-TTL:PT1H
BEGIN:VTIMEZONE
TZID:America/Los_Angeles
BEGIN:DAYLIGHT
TZOFFSETFROM:-0800
TZOFFSETTO:-0700
TZNAME:PDT
DTSTART:20240310T100000
END:DAYLIGHT
BEGIN:STANDARD
TZOFFSETFROM:-0700
TZOFFSETTO:-0800
TZNAME:PST
DTSTART:20241103T090000
END:STANDARD
BEGIN:DAYLIGHT
TZOFFSETFROM:-0800
TZOFFSETTO:-0700
TZNAME:PDT
DTSTART:20250309T100000
END:DAYLIGHT
BEGIN:STANDARD
TZOFFSETFROM:-0700
TZOFFSETTO:-0800
TZNAME:PST
DTSTART:20251102T090000
END:STANDARD
BEGIN:DAYLIGHT
TZOFFSETFROM:-0800
TZOFFSETTO:-0700
TZNAME:PDT
DTSTART:20260308T100000
END:DAYLIGHT
BEGIN:STANDARD
TZOFFSETFROM:-0700
TZOFFSETTO:-0800
TZNAME:PST
DTSTART:20261101T090000
END:STANDARD
END:VTIMEZONE
BEGIN:VEVENT
DTSTART;VALUE=DATE:20251127
DTEND;VALUE=DATE:20251129
DTSTAMP:20260425T103157
CREATED:20251125T221937Z
LAST-MODIFIED:20251125T222209Z
UID:29708-1764201600-1764374399@momentum4all.org
SUMMARY:Thanksgiving - Holiday Closure
DESCRIPTION:Holiday Closure Notice\nIn observance of the Thanksgiving holiday\, our Thousand Oaks Adult Day Program and Pediatric Clinic in Torrance will be closed on Thursday\, November 27\, and Friday\, November 28. We wish everyone a safe and joyful holiday!
URL:https://momentum4all.org/calendar/thanksgiving-holiday-closure/
ATTACH;FMTTYPE=image/jpeg:https://momentum4all.org/wp-content/uploads/2025/11/Thanksgiving.jpg
END:VEVENT
END:VCALENDAR