BEGIN:VCALENDAR
VERSION:2.0
PRODID:-//Momentum - ECPv6.15.16//NONSGML v1.0//EN
CALSCALE:GREGORIAN
METHOD:PUBLISH
X-WR-CALNAME:Momentum
X-ORIGINAL-URL:https://momentum4all.org
X-WR-CALDESC:Events for Momentum
REFRESH-INTERVAL;VALUE=DURATION:PT1H
X-Robots-Tag:noindex
X-PUBLISHED-TTL:PT1H
BEGIN:VTIMEZONE
TZID:America/Los_Angeles
BEGIN:DAYLIGHT
TZOFFSETFROM:-0800
TZOFFSETTO:-0700
TZNAME:PDT
DTSTART:20250309T100000
END:DAYLIGHT
BEGIN:STANDARD
TZOFFSETFROM:-0700
TZOFFSETTO:-0800
TZNAME:PST
DTSTART:20251102T090000
END:STANDARD
BEGIN:DAYLIGHT
TZOFFSETFROM:-0800
TZOFFSETTO:-0700
TZNAME:PDT
DTSTART:20260308T100000
END:DAYLIGHT
BEGIN:STANDARD
TZOFFSETFROM:-0700
TZOFFSETTO:-0800
TZNAME:PST
DTSTART:20261101T090000
END:STANDARD
BEGIN:DAYLIGHT
TZOFFSETFROM:-0800
TZOFFSETTO:-0700
TZNAME:PDT
DTSTART:20270314T100000
END:DAYLIGHT
BEGIN:STANDARD
TZOFFSETFROM:-0700
TZOFFSETTO:-0800
TZNAME:PST
DTSTART:20271107T090000
END:STANDARD
END:VTIMEZONE
BEGIN:VEVENT
DTSTART;TZID=America/Los_Angeles:20260328T120000
DTEND;TZID=America/Los_Angeles:20260328T160000
DTSTAMP:20260420T235441
CREATED:20260316T195945Z
LAST-MODIFIED:20260316T195945Z
UID:30345-1774699200-1774713600@momentum4all.org
SUMMARY:Understanding Needed Integration Fair
DESCRIPTION:
URL:https://momentum4all.org/calendar/understanding-needed-integration-fair/
CATEGORIES:Family,Public Event
ATTACH;FMTTYPE=image/jpeg:https://momentum4all.org/wp-content/uploads/2026/03/03-28-2026-Understanding-Needed-Integration-Banner.jpg
END:VEVENT
END:VCALENDAR